Workbook

Sheet Items
A1: Inventory Tracker
A2: Blue text = cells you can edit. Black = formulas (do not overwrite). Replace the example row(s) with your own data. Record every receipt and issue on the Movements sheet.
A4: SKU | B4: Item | C4: Category | D4: Unit cost | E4: Opening stock | F4: Stock in | G4: Stock out | H4: Current stock | I4: Reorder level | J4: Status | K4: Stock value
A5: SKU-001 | B5: Example: A4 paper ream | C5: Stationery | D5: 250 | E5: 40 | F5: =IF($A5="","",SUMIFS(Movements!$D$5:$D$1004,Movements!$B$5:$B$1004,$A5,Movements!$C$5:$C$1004,"In")) -> 0 | G5: =IF($A5="","",SUMIFS(Movements!$D$5:$D$1004,Movements!$B$5:$B$1004,$A5,Movements!$C$5:$C$1004,"Out")) -> 10 | H5: =IF($A5="","",N(E5)+F5-G5) -> 30 | I5: 15 | J5: =IF($A5="","",IF(H5<=N(I5),"Reorder","OK")) -> OK | K5: =IF($A5="","",H5*N(D5)) -> 7500
F6: =IF($A6="","",SUMIFS(Movements!$D$5:$D$1004,Movements!$B$5:$B$1004,$A6,Movements!$C$5:$C$1004,"In")) | G6: =IF($A6="","",SUMIFS(Movements!$D$5:$D$1004,Movements!$B$5:$B$1004,$A6,Movements!$C$5:$C$1004,"Out")) | H6: =IF($A6="","",N(E6)+F6-G6) | J6: =IF($A6="","",IF(H6<=N(I6),"Reorder","OK")) | K6: =IF($A6="","",H6*N(D6))
F7: =IF($A7="","",SUMIFS(Movements!$D$5:$D$1004,Movements!$B$5:$B$1004,$A7,Movements!$C$5:$C$1004,"In")) | G7: =IF($A7="","",SUMIFS(Movements!$D$5:$D$1004,Movements!$B$5:$B$1004,$A7,Movements!$C$5:$C$1004,"Out")) | H7: =IF($A7="","",N(E7)+F7-G7) | J7: =IF($A7="","",IF(H7<=N(I7),"Reorder","OK")) | K7: =IF($A7="","",H7*N(D7))
F8: =IF($A8="","",SUMIFS(Movements!$D$5:$D$1004,Movements!$B$5:$B$1004,$A8,Movements!$C$5:$C$1004,"In")) | G8: =IF($A8="","",SUMIFS(Movements!$D$5:$D$1004,Movements!$B$5:$B$1004,$A8,Movements!$C$5:$C$1004,"Out")) | H8: =IF($A8="","",N(E8)+F8-G8) | J8: =IF($A8="","",IF(H8<=N(I8),"Reorder","OK")) | K8: =IF($A8="","",H8*N(D8))
F9: =IF($A9="","",SUMIFS(Movements!$D$5:$D$1004,Movements!$B$5:$B$1004,$A9,Movements!$C$5:$C$1004,"In")) | G9: =IF($A9="","",SUMIFS(Movements!$D$5:$D$1004,Movements!$B$5:$B$1004,$A9,Movements!$C$5:$C$1004,"Out")) | H9: =IF($A9="","",N(E9)+F9-G9) | J9: =IF($A9="","",IF(H9<=N(I9),"Reorder","OK")) | K9: =IF($A9="","",H9*N(D9))
F10: =IF($A10="","",SUMIFS(Movements!$D$5:$D$1004,Movements!$B$5:$B$1004,$A10,Movements!$C$5:$C$1004,"In")) | G10: =IF($A10="","",SUMIFS(Movements!$D$5:$D$1004,Movements!$B$5:$B$1004,$A10,Movements!$C$5:$C$1004,"Out")) | H10: =IF($A10="","",N(E10)+F10-G10) | J10: =IF($A10="","",IF(H10<=N(I10),"Reorder","OK")) | K10: =IF($A10="","",H10*N(D10))
F11: =IF($A11="","",SUMIFS(Movements!$D$5:$D$1004,Movements!$B$5:$B$1004,$A11,Movements!$C$5:$C$1004,"In")) | G11: =IF($A11="","",SUMIFS(Movements!$D$5:$D$1004,Movements!$B$5:$B$1004,$A11,Movements!$C$5:$C$1004,"Out")) | H11: =IF($A11="","",N(E11)+F11-G11) | J11: =IF($A11="","",IF(H11<=N(I11),"Reorder","OK")) | K11: =IF($A11="","",H11*N(D11))
F12: =IF($A12="","",SUMIFS(Movements!$D$5:$D$1004,Movements!$B$5:$B$1004,$A12,Movements!$C$5:$C$1004,"In")) | G12: =IF($A12="","",SUMIFS(Movements!$D$5:$D$1004,Movements!$B$5:$B$1004,$A12,Movements!$C$5:$C$1004,"Out")) | H12: =IF($A12="","",N(E12)+F12-G12) | J12: =IF($A12="","",IF(H12<=N(I12),"Reorder","OK")) | K12: =IF($A12="","",H12*N(D12))
F13: =IF($A13="","",SUMIFS(Movements!$D$5:$D$1004,Movements!$B$5:$B$1004,$A13,Movements!$C$5:$C$1004,"In")) | G13: =IF($A13="","",SUMIFS(Movements!$D$5:$D$1004,Movements!$B$5:$B$1004,$A13,Movements!$C$5:$C$1004,"Out")) | H13: =IF($A13="","",N(E13)+F13-G13) | J13: =IF($A13="","",IF(H13<=N(I13),"Reorder","OK")) | K13: =IF($A13="","",H13*N(D13))
F14: =IF($A14="","",SUMIFS(Movements!$D$5:$D$1004,Movements!$B$5:$B$1004,$A14,Movements!$C$5:$C$1004,"In")) | G14: =IF($A14="","",SUMIFS(Movements!$D$5:$D$1004,Movements!$B$5:$B$1004,$A14,Movements!$C$5:$C$1004,"Out")) | H14: =IF($A14="","",N(E14)+F14-G14) | J14: =IF($A14="","",IF(H14<=N(I14),"Reorder","OK")) | K14: =IF($A14="","",H14*N(D14))
F15: =IF($A15="","",SUMIFS(Movements!$D$5:$D$1004,Movements!$B$5:$B$1004,$A15,Movements!$C$5:$C$1004,"In")) | G15: =IF($A15="","",SUMIFS(Movements!$D$5:$D$1004,Movements!$B$5:$B$1004,$A15,Movements!$C$5:$C$1004,"Out")) | H15: =IF($A15="","",N(E15)+F15-G15) | J15: =IF($A15="","",IF(H15<=N(I15),"Reorder","OK")) | K15: =IF($A15="","",H15*N(D15))
F16: =IF($A16="","",SUMIFS(Movements!$D$5:$D$1004,Movements!$B$5:$B$1004,$A16,Movements!$C$5:$C$1004,"In")) | G16: =IF($A16="","",SUMIFS(Movements!$D$5:$D$1004,Movements!$B$5:$B$1004,$A16,Movements!$C$5:$C$1004,"Out")) | H16: =IF($A16="","",N(E16)+F16-G16) | J16: =IF($A16="","",IF(H16<=N(I16),"Reorder","OK")) | K16: =IF($A16="","",H16*N(D16))
F17: =IF($A17="","",SUMIFS(Movements!$D$5:$D$1004,Movements!$B$5:$B$1004,$A17,Movements!$C$5:$C$1004,"In")) | G17: =IF($A17="","",SUMIFS(Movements!$D$5:$D$1004,Movements!$B$5:$B$1004,$A17,Movements!$C$5:$C$1004,"Out")) | H17: =IF($A17="","",N(E17)+F17-G17) | J17: =IF($A17="","",IF(H17<=N(I17),"Reorder","OK")) | K17: =IF($A17="","",H17*N(D17))
... F204: =IF($A204="","",SUMIFS(Movements!$D$5:$D$1004,Movements!$B$5:$B$1004,$A204,Movements!$C$5:$C$1004,"In")) | G204: =IF($A204="","",SUMIFS(Movements!$D$5:$D$1004,Movements!$B$5:$B$1004,$A204,Movements!$C$5:$C$1004,"Out")) | H204: =IF($A204="","",N(E204)+F204-G204) | J204: =IF($A204="","",IF(H204<=N(I204),"Reorder","OK")) | K204: =IF($A204="","",H204*N(D204))
A206: Total stock value | K206: =SUM(K5:K204) -> 7500
A207: Items to reorder | K207: =COUNTIF(J5:J204,"Reorder") -> 0

Sheet Movements
A1: Stock movements
A2: Enter the SKU exactly as on the Items sheet. Type = In (received) or Out (issued / sold).
A4: Date | B4: SKU | C4: Type | D4: Quantity | E4: Note
A5: 46117 | B5: SKU-001 | C5: Out | D5: 10 | E5: Example: issued to office
